BEGIN:VCALENDAR
VERSION:2.0
PRODID:-//Spring Forest Qigong - ECPv6.15.20//NONSGML v1.0//EN
CALSCALE:GREGORIAN
METHOD:PUBLISH
X-ORIGINAL-URL:https://www.staging.springforestqigong.com
X-WR-CALDESC:Events for Spring Forest Qigong
REFRESH-INTERVAL;VALUE=DURATION:PT1H
X-Robots-Tag:noindex
X-PUBLISHED-TTL:PT1H
BEGIN:VTIMEZONE
TZID:America/Denver
BEGIN:DAYLIGHT
TZOFFSETFROM:-0700
TZOFFSETTO:-0600
TZNAME:MDT
DTSTART:20240310T090000
END:DAYLIGHT
BEGIN:STANDARD
TZOFFSETFROM:-0600
TZOFFSETTO:-0700
TZNAME:MST
DTSTART:20241103T080000
END:STANDARD
BEGIN:DAYLIGHT
TZOFFSETFROM:-0700
TZOFFSETTO:-0600
TZNAME:MDT
DTSTART:20250309T090000
END:DAYLIGHT
BEGIN:STANDARD
TZOFFSETFROM:-0600
TZOFFSETTO:-0700
TZNAME:MST
DTSTART:20251102T080000
END:STANDARD
BEGIN:DAYLIGHT
TZOFFSETFROM:-0700
TZOFFSETTO:-0600
TZNAME:MDT
DTSTART:20260308T090000
END:DAYLIGHT
BEGIN:STANDARD
TZOFFSETFROM:-0600
TZOFFSETTO:-0700
TZNAME:MST
DTSTART:20261101T080000
END:STANDARD
END:VTIMEZONE
BEGIN:VEVENT
DTSTART;TZID=America/Denver:20251018T090000
DTEND;TZID=America/Denver:20251018T173000
DTSTAMP:20260424T055218
CREATED:20250908T170220Z
LAST-MODIFIED:20250908T171403Z
UID:10000256-1760778000-1760808600@www.staging.springforestqigong.com
SUMMARY:2025-10-18 Level 1 In-Person - Roxy Wright
DESCRIPTION:
URL:https://www.staging.springforestqigong.com/event/2025-10-18-level-1-in-person-roxy-wright/
LOCATION:Heart’s Haven Ranch Retreat\, Raymond\, Alberta\, T0K 2S0\, Canada
CATEGORIES:In Person Events
ATTACH;FMTTYPE=image/png:https://www.staging.springforestqigong.com/wp-content/uploads/2024/10/Level-One-Qi-Activation-In-Person-Event-Filter-Image-1.png
END:VEVENT
END:VCALENDAR